BEGIN:VCALENDAR
VERSION:2.0
PRODID:-//CPBA - ECPv6.15.20//NONSGML v1.0//EN
CALSCALE:GREGORIAN
METHOD:PUBLISH
X-WR-CALNAME:CPBA
X-ORIGINAL-URL:https://clayplatteba.org
X-WR-CALDESC:Events for CPBA
REFRESH-INTERVAL;VALUE=DURATION:PT1H
X-Robots-Tag:noindex
X-PUBLISHED-TTL:PT1H
BEGIN:VTIMEZONE
TZID:America/Chicago
BEGIN:DAYLIGHT
TZOFFSETFROM:-0600
TZOFFSETTO:-0500
TZNAME:CDT
DTSTART:20180311T080000
END:DAYLIGHT
BEGIN:STANDARD
TZOFFSETFROM:-0500
TZOFFSETTO:-0600
TZNAME:CST
DTSTART:20181104T070000
END:STANDARD
BEGIN:DAYLIGHT
TZOFFSETFROM:-0600
TZOFFSETTO:-0500
TZNAME:CDT
DTSTART:20190310T080000
END:DAYLIGHT
BEGIN:STANDARD
TZOFFSETFROM:-0500
TZOFFSETTO:-0600
TZNAME:CST
DTSTART:20191103T070000
END:STANDARD
BEGIN:DAYLIGHT
TZOFFSETFROM:-0600
TZOFFSETTO:-0500
TZNAME:CDT
DTSTART:20200308T080000
END:DAYLIGHT
BEGIN:STANDARD
TZOFFSETFROM:-0500
TZOFFSETTO:-0600
TZNAME:CST
DTSTART:20201101T070000
END:STANDARD
BEGIN:DAYLIGHT
TZOFFSETFROM:-0600
TZOFFSETTO:-0500
TZNAME:CDT
DTSTART:20210314T080000
END:DAYLIGHT
BEGIN:STANDARD
TZOFFSETFROM:-0500
TZOFFSETTO:-0600
TZNAME:CST
DTSTART:20211107T070000
END:STANDARD
END:VTIMEZONE
BEGIN:VEVENT
DTSTART;TZID=America/Chicago:20200220T190000
DTEND;TZID=America/Chicago:20200220T203000
DTSTAMP:20260420T015927
CREATED:20191218T143909Z
LAST-MODIFIED:20191218T143909Z
UID:365-1582225200-1582230600@clayplatteba.org
SUMMARY:Disaster Relief Team Meeting
DESCRIPTION:The Disaster Relief Service Ministry Team meets at the Clay-Platte Association office on the third Thursday of every month at 7:00 p.m.
URL:https://clayplatteba.org/event/disaster-relief-team-meeting-3/
LOCATION:Clay-Platte Baptist Association\, 11701 Plattsburg Rd\, Kearney\, MO\, 64060\, United States
END:VEVENT
BEGIN:VEVENT
DTSTART;TZID=America/Chicago:20200217T190000
DTEND;TZID=America/Chicago:20200217T203000
DTSTAMP:20260420T015927
CREATED:20191218T150953Z
LAST-MODIFIED:20191218T150953Z
UID:400-1581966000-1581971400@clayplatteba.org
SUMMARY:Pastors' Wives Gathering
DESCRIPTION:The CPBA Pastors’ Wives Network exists for the purpose of supporting\, encouraging\, and facilitating strong trustworthy friendships with those who understand what it’s like to be in ministry. Each month the CPBA holds a Pastors’ Wives Gathering where specific topics related to being in ministry are discussed.
URL:https://clayplatteba.org/event/pastors-wives-gathering-2/
LOCATION:Clay-Platte Baptist Association\, 11701 Plattsburg Rd\, Kearney\, MO\, 64060\, United States
END:VEVENT
BEGIN:VEVENT
DTSTART;TZID=America/Chicago:20200211T113000
DTEND;TZID=America/Chicago:20200211T130000
DTSTAMP:20260420T015927
CREATED:20191218T153614Z
LAST-MODIFIED:20191218T153614Z
UID:427-1581420600-1581426000@clayplatteba.org
SUMMARY:Network Lunch
DESCRIPTION:The Network lunches are for CPBA church ministry staff to gather together enjoy delicious food\, great conversations\, encouraging fellowship\, and engage with a specific topic related to ministry. The Network lunches are held on the second Tuesday of each month except when we break for summer.
URL:https://clayplatteba.org/event/network-lunch-2/
LOCATION:Clay-Platte Baptist Association\, 11701 Plattsburg Rd\, Kearney\, MO\, 64060\, United States
END:VEVENT
BEGIN:VEVENT
DTSTART;TZID=America/Chicago:20200130T103000
DTEND;TZID=America/Chicago:20200130T123000
DTSTAMP:20260420T015927
CREATED:20191218T145453Z
LAST-MODIFIED:20191218T145453Z
UID:387-1580380200-1580387400@clayplatteba.org
SUMMARY:Youth Leaders Network Meeting
DESCRIPTION:The Clay-Platte Baptist Association Youth Leaders Network is a group of people who support each other in ministry and discuss specific topics related to working with youth in their church. They hold monthly meetings where they talk about a relevant topic to youth ministry\, pray for each other\, and then go have lunch together. \n 
URL:https://clayplatteba.org/event/youth-leaders-network-meeting/
LOCATION:North Heartland Community Church\, 4800 NW 88th St.\, Kansas City\, MO\, 64154\, United States
END:VEVENT
BEGIN:VEVENT
DTSTART;VALUE=DATE:20200121
DTEND;VALUE=DATE:20200124
DTSTAMP:20260420T015927
CREATED:20191218T160455Z
LAST-MODIFIED:20191218T160455Z
UID:452-1579564800-1579823999@clayplatteba.org
SUMMARY:Midwest Leadership Summit
DESCRIPTION:The Midwest Leadership Summit is January 21-23\, 2020 in Springfield\, Illinois. This event is for church leaders and our Director of Missions\, Dr. Gary Mathes will be speaking at a breakout session for this event. For more information click here.
URL:https://clayplatteba.org/event/midwest-leadership-summit/
LOCATION:MO
END:VEVENT
BEGIN:VEVENT
DTSTART;TZID=America/Chicago:20200120T190000
DTEND;TZID=America/Chicago:20200120T203000
DTSTAMP:20260420T015927
CREATED:20191218T150832Z
LAST-MODIFIED:20191218T150832Z
UID:398-1579546800-1579552200@clayplatteba.org
SUMMARY:Pastors' Wives Gathering
DESCRIPTION:The CPBA Pastors’ Wives Network exists for the purpose of supporting\, encouraging\, and facilitating strong trustworthy friendships with those who understand what it’s like to be in ministry. Each month the CPBA holds a Pastors’ Wives Gathering where specific topics related to being in ministry are discussed.
URL:https://clayplatteba.org/event/pastors-wives-gathering/
LOCATION:Clay-Platte Baptist Association\, 11701 Plattsburg Rd\, Kearney\, MO\, 64060\, United States
END:VEVENT
BEGIN:VEVENT
DTSTART;TZID=America/Chicago:20200116T190000
DTEND;TZID=America/Chicago:20200116T203000
DTSTAMP:20260420T015927
CREATED:20191218T143830Z
LAST-MODIFIED:20191218T143830Z
UID:363-1579201200-1579206600@clayplatteba.org
SUMMARY:Disaster Relief Team Meeting
DESCRIPTION:The Disaster Relief Service Ministry Team meets at the Clay-Platte Association office on the third Thursday of every month at 7:00 p.m.
URL:https://clayplatteba.org/event/disaster-relief-team-meeting-2/
LOCATION:Clay-Platte Baptist Association\, 11701 Plattsburg Rd\, Kearney\, MO\, 64060\, United States
END:VEVENT
BEGIN:VEVENT
DTSTART;TZID=America/Chicago:20200116T130000
DTEND;TZID=America/Chicago:20200116T143000
DTSTAMP:20260420T015927
CREATED:20200108T193715Z
LAST-MODIFIED:20200108T193715Z
UID:475-1579179600-1579185000@clayplatteba.org
SUMMARY:Leadership Council Meeting
DESCRIPTION:
URL:https://clayplatteba.org/event/leadership-council-meeting/
LOCATION:Clay-Platte Baptist Association\, 11701 Plattsburg Rd\, Kearney\, MO\, 64060\, United States
END:VEVENT
BEGIN:VEVENT
DTSTART;TZID=America/Chicago:20200116T100000
DTEND;TZID=America/Chicago:20200116T113000
DTSTAMP:20260420T015927
CREATED:20191218T142233Z
LAST-MODIFIED:20191218T142443Z
UID:341-1579168800-1579174200@clayplatteba.org
SUMMARY:Benevolence Team Meeting
DESCRIPTION:The Benevolence Team is a group of individuals from CPBA churches who desire to to see poverty alleviated in the Clay and Platte Counties. As a team they continue to learn information and share ideas with the CPBA churches to achieve this goal.This team usually meets every third Thursday morning each month except during summer.
URL:https://clayplatteba.org/event/benevolence-team-meeting/
LOCATION:Clay-Platte Baptist Association\, 11701 Plattsburg Rd\, Kearney\, MO\, 64060\, United States
END:VEVENT
BEGIN:VEVENT
DTSTART;TZID=America/Chicago:20200114T113000
DTEND;TZID=America/Chicago:20200114T130000
DTSTAMP:20260420T015927
CREATED:20191218T153522Z
LAST-MODIFIED:20191218T153522Z
UID:425-1579001400-1579006800@clayplatteba.org
SUMMARY:Network Lunch
DESCRIPTION:The Network lunches are for CPBA church ministry staff to gather together enjoy delicious food\, great conversations\, encouraging fellowship\, and engage with a specific topic related to ministry. The Network lunches are held on the second Tuesday of each month except when we break for summer.
URL:https://clayplatteba.org/event/network-lunch/
LOCATION:Clay-Platte Baptist Association\, 11701 Plattsburg Rd\, Kearney\, MO\, 64060\, United States
END:VEVENT
BEGIN:VEVENT
DTSTART;VALUE=DATE:20191225
DTEND;VALUE=DATE:20200102
DTSTAMP:20260420T015927
CREATED:20191203T145014Z
LAST-MODIFIED:20191203T145028Z
UID:299-1577232000-1577923199@clayplatteba.org
SUMMARY:CPBA Office Closed
DESCRIPTION:The Clay-Platte Baptist Association will be closed the week between Christmas and New Years Day.
URL:https://clayplatteba.org/event/cpba-office-closed/
LOCATION:MO\, United States
END:VEVENT
BEGIN:VEVENT
DTSTART;VALUE=DATE:20191224
DTEND;VALUE=DATE:20191225
DTSTAMP:20260420T015927
CREATED:20191218T155856Z
LAST-MODIFIED:20191218T155904Z
UID:449-1577145600-1577231999@clayplatteba.org
SUMMARY:CPBA Office Closed
DESCRIPTION:The CPBA office is closed for the holidays.
URL:https://clayplatteba.org/event/office-closed/
LOCATION:MO
END:VEVENT
BEGIN:VEVENT
DTSTART;TZID=America/Chicago:20191219T190000
DTEND;TZID=America/Chicago:20191219T210000
DTSTAMP:20260420T015927
CREATED:20191203T144339Z
LAST-MODIFIED:20191203T144339Z
UID:294-1576782000-1576789200@clayplatteba.org
SUMMARY:Disaster Relief Team Meeting
DESCRIPTION:The Clay-Platte Baptist Association’s Disaster Relief Service Ministry Team meets at the Clay-Platte Association office on the third Thursday of every month at 7:00pm.
URL:https://clayplatteba.org/event/disaster-relief-team-meeting/
LOCATION:Clay-Platte Baptist Association\, 11701 Plattsburg Rd\, Kearney\, MO\, 64060\, United States
END:VEVENT
BEGIN:VEVENT
DTSTART;TZID=America/Chicago:20191219T103000
DTEND;TZID=America/Chicago:20191219T123000
DTSTAMP:20260420T015927
CREATED:20191203T145601Z
LAST-MODIFIED:20191203T145601Z
UID:303-1576751400-1576758600@clayplatteba.org
SUMMARY:CPBA Youth Leaders Network Meeting
DESCRIPTION:The Clay-Platte Baptist Association Youth Leaders Network meets every month. This month they will meet at North Heartland Community Church at 10:30a.m. and then they plan to go to lunch together after their meeting. The discussion topic for the meeting is: Engaging and Involving Parents.
URL:https://clayplatteba.org/event/cpba-youth-leaders-network-meeting/
LOCATION:North Heartland Community Church\, 4800 NW 88th St.\, Kansas City\, MO\, 64154\, United States
END:VEVENT
BEGIN:VEVENT
DTSTART;TZID=America/Chicago:20191216T190000
DTEND;TZID=America/Chicago:20191216T210000
DTSTAMP:20260420T015927
CREATED:20191203T143738Z
LAST-MODIFIED:20191203T143738Z
UID:287-1576522800-1576530000@clayplatteba.org
SUMMARY:Pastors' Wives Gathering: Christmas Celebration
DESCRIPTION:Monday\, December 16\, 2019 at 7:00p.m. we will have our Pastors’ Wives Gathering: Christmas Celebration. This will be a time of celebrating Christ\, enjoying seasonal desserts + beverages\, playing fun games\, and experiencing engaging conversation. We hope to see you there!
URL:https://clayplatteba.org/event/pastors-wives-gathering-christmas-celebration/
LOCATION:Clay-Platte Baptist Association\, 11701 Plattsburg Rd\, Kearney\, MO\, 64060\, United States
END:VEVENT
BEGIN:VEVENT
DTSTART;TZID=America/Chicago:20191210T113000
DTEND;TZID=America/Chicago:20191210T130000
DTSTAMP:20260420T015927
CREATED:20191126T152520Z
LAST-MODIFIED:20191126T152520Z
UID:232-1575977400-1575982800@clayplatteba.org
SUMMARY:Christmas Fellowship Lunch
DESCRIPTION:The Clay-Platte Baptist Association along with North Heartland Community Church is hosting the annual Christmas Fellowship lunch for CPBA church’s pastors and staff. Join us as we celebrate our Savior\, enjoy a delicious meal\, and engage in encouraging conversations.  RSVP to kreger@clayplatteba.org by December 3\, 2019 to reserve your place and meal.
URL:https://clayplatteba.org/event/christmas-fellowship-lunch/
LOCATION:North Heartland Community Church\, 4800 NW 88th St.\, Kansas City\, MO\, 64154\, United States
END:VEVENT
END:VCALENDAR